BEGIN:VCALENDAR
VERSION:2.0
PRODID:-//Sevenoaks - ECPv4.9.7//NONSGML v1.0//EN
CALSCALE:GREGORIAN
METHOD:PUBLISH
X-WR-CALNAME:Sevenoaks
X-ORIGINAL-URL:https://www.sevenoaks.wa.edu.au
X-WR-CALDESC:Events for Sevenoaks
BEGIN:VTIMEZONE
TZID:"Asia/Shanghai"
BEGIN:STANDARD
TZOFFSETFROM:+0800
TZOFFSETTO:+0800
TZNAME:CST
DTSTART:20210101T000000
END:STANDARD
END:VTIMEZONE
BEGIN:VEVENT
DTSTART;VALUE=DATE:20210204
DTEND;VALUE=DATE:20210205
DTSTAMP:20210226T225152
CREATED:20201207T060957Z
LAST-MODIFIED:20201207T060957Z
UID:3398-1612396800-1612483199@www.sevenoaks.wa.edu.au
SUMMARY:Sri Lanka Independence Commemoration Day
DESCRIPTION:
URL:https://www.sevenoaks.wa.edu.au/event/sri-lanka-independence-commemoration-day-3/
CATEGORIES:National Days
END:VEVENT
BEGIN:VEVENT
DTSTART;VALUE=DATE:20210206
DTEND;VALUE=DATE:20210207
DTSTAMP:20210226T225152
CREATED:20201207T061118Z
LAST-MODIFIED:20201207T061118Z
UID:3400-1612569600-1612655999@www.sevenoaks.wa.edu.au
SUMMARY:Waitangi Day
DESCRIPTION:
URL:https://www.sevenoaks.wa.edu.au/event/waitangi-day/
CATEGORIES:National Days
END:VEVENT
BEGIN:VEVENT
DTSTART;TZID="Asia/Shanghai":20210208T083000
DTEND;TZID="Asia/Shanghai":20210208T144000
DTSTAMP:20210226T225152
CREATED:20201207T060509Z
LAST-MODIFIED:20210205T100322Z
UID:3394-1612773000-1612795200@www.sevenoaks.wa.edu.au
SUMMARY:Due to COVID Lockdown - Start of Term 1
DESCRIPTION:
URL:https://www.sevenoaks.wa.edu.au/event/start-of-term-1/
CATEGORIES:COVID Changes - Sevenoaks Event
END:VEVENT
BEGIN:VEVENT
DTSTART;VALUE=DATE:20210211
DTEND;VALUE=DATE:20210212
DTSTAMP:20210226T225152
CREATED:20201207T061311Z
LAST-MODIFIED:20201207T061311Z
UID:3402-1613001600-1613087999@www.sevenoaks.wa.edu.au
SUMMARY:Victory of the Islamic Revolution in Iran
DESCRIPTION:
URL:https://www.sevenoaks.wa.edu.au/event/victory-of-the-islamic-revolution-in-iran/
CATEGORIES:National Days
END:VEVENT
BEGIN:VEVENT
DTSTART;VALUE=DATE:20210212
DTEND;VALUE=DATE:20210213
DTSTAMP:20210226T225152
CREATED:20201207T060812Z
LAST-MODIFIED:20201207T064039Z
UID:3396-1613088000-1613174399@www.sevenoaks.wa.edu.au
SUMMARY:Lunar New Year
DESCRIPTION:
URL:https://www.sevenoaks.wa.edu.au/event/chinese-new-year-2/
CATEGORIES:National Days
END:VEVENT
BEGIN:VEVENT
DTSTART;VALUE=DATE:20210213
DTEND;VALUE=DATE:20210214
DTSTAMP:20210226T225152
CREATED:20201207T061810Z
LAST-MODIFIED:20201207T061810Z
UID:3404-1613174400-1613260799@www.sevenoaks.wa.edu.au
SUMMARY:National Apology Day
DESCRIPTION:
URL:https://www.sevenoaks.wa.edu.au/event/national-apology-day-3/
CATEGORIES:National Days
END:VEVENT
BEGIN:VEVENT
DTSTART;VALUE=DATE:20210215
DTEND;VALUE=DATE:20210216
DTSTAMP:20210226T225152
CREATED:20201207T064224Z
LAST-MODIFIED:20201207T064224Z
UID:3413-1613347200-1613433599@www.sevenoaks.wa.edu.au
SUMMARY:Parinirvana Day
DESCRIPTION:
URL:https://www.sevenoaks.wa.edu.au/event/parinirvana-day-2/
CATEGORIES:National Days
END:VEVENT
BEGIN:VEVENT
DTSTART;VALUE=DATE:20210216
DTEND;VALUE=DATE:20210217
DTSTAMP:20210226T225152
CREATED:20201207T063032Z
LAST-MODIFIED:20201207T063402Z
UID:3406-1613433600-1613519999@www.sevenoaks.wa.edu.au
SUMMARY:Shrove Tuesday
DESCRIPTION:
URL:https://www.sevenoaks.wa.edu.au/event/shrove-tuesday-3/
CATEGORIES:National Days
END:VEVENT
BEGIN:VEVENT
DTSTART;TZID="Asia/Shanghai":20210217T080000
DTEND;TZID="Asia/Shanghai":20210217T170000
DTSTAMP:20210226T225152
CREATED:20201207T063219Z
LAST-MODIFIED:20201207T063219Z
UID:3408-1613548800-1613581200@www.sevenoaks.wa.edu.au
SUMMARY:Ash Wednesday
DESCRIPTION:
URL:https://www.sevenoaks.wa.edu.au/event/ash-wednesday/
END:VEVENT
BEGIN:VEVENT
DTSTART;TZID="Asia/Shanghai":20210219T190000
DTEND;TZID="Asia/Shanghai":20210219T230000
DTSTAMP:20210226T225152
CREATED:20201207T030321Z
LAST-MODIFIED:20201207T031107Z
UID:3375-1613761200-1613775600@www.sevenoaks.wa.edu.au
SUMMARY:Year 12 Ball
DESCRIPTION:
URL:https://www.sevenoaks.wa.edu.au/event/year-12-ball-4/
CATEGORIES:Sevenoaks Events
END:VEVENT
BEGIN:VEVENT
DTSTART;TZID="Asia/Shanghai":20210223T080000
DTEND;TZID="Asia/Shanghai":20210223T080000
DTSTAMP:20210226T225152
CREATED:20201207T064337Z
LAST-MODIFIED:20201207T064337Z
UID:3415-1614067200-1614067200@www.sevenoaks.wa.edu.au
SUMMARY:Year 12 Student Guild Elections
DESCRIPTION:
URL:https://www.sevenoaks.wa.edu.au/event/year-12-student-guild-elections-2/
CATEGORIES:Sevenoaks Events
END:VEVENT
BEGIN:VEVENT
DTSTART;TZID="Asia/Shanghai":20210224T180000
DTEND;TZID="Asia/Shanghai":20210224T190000
DTSTAMP:20210226T225152
CREATED:20201207T031348Z
LAST-MODIFIED:20210217T005030Z
UID:3377-1614189600-1614193200@www.sevenoaks.wa.edu.au
SUMMARY:Information Evening for parents of students studying ATAR
DESCRIPTION:
URL:https://www.sevenoaks.wa.edu.au/event/information-evening-for-parents-of-students-studying-atar-2/
CATEGORIES:Sevenoaks Events
END:VEVENT
BEGIN:VEVENT
DTSTART;VALUE=DATE:20210225
DTEND;VALUE=DATE:20210227
DTSTAMP:20210226T225152
CREATED:20201207T065206Z
LAST-MODIFIED:20201207T065233Z
UID:3423-1614211200-1614383999@www.sevenoaks.wa.edu.au
SUMMARY:Purim
DESCRIPTION:
URL:https://www.sevenoaks.wa.edu.au/event/purim-3/
END:VEVENT
BEGIN:VEVENT
DTSTART;VALUE=DATE:20210226
DTEND;VALUE=DATE:20210227
DTSTAMP:20210226T225152
CREATED:20201207T063834Z
LAST-MODIFIED:20201207T063854Z
UID:3410-1614297600-1614383999@www.sevenoaks.wa.edu.au
SUMMARY:Magha Puja
DESCRIPTION:
URL:https://www.sevenoaks.wa.edu.au/event/magha-puja/
CATEGORIES:National Days
END:VEVENT
END:VCALENDAR