BEGIN:VCALENDAR
VERSION:2.0
PRODID:-//Sevenoaks - ECPv4.9.7//NONSGML v1.0//EN
CALSCALE:GREGORIAN
METHOD:PUBLISH
X-WR-CALNAME:Sevenoaks
X-ORIGINAL-URL:http://www.sevenoaks.wa.edu.au
X-WR-CALDESC:Events for Sevenoaks
BEGIN:VTIMEZONE
TZID:"Asia/Shanghai"
BEGIN:STANDARD
TZOFFSETFROM:+0800
TZOFFSETTO:+0800
TZNAME:CST
DTSTART:20210101T000000
END:STANDARD
END:VTIMEZONE
BEGIN:VEVENT
DTSTART;TZID="Asia/Shanghai":20210223T080000
DTEND;TZID="Asia/Shanghai":20210223T080000
DTSTAMP:20210228T234011
CREATED:20201207T064337Z
LAST-MODIFIED:20201207T064337Z
UID:3415-1614067200-1614067200@www.sevenoaks.wa.edu.au
SUMMARY:Year 12 Student Guild Elections
DESCRIPTION:
URL:http://www.sevenoaks.wa.edu.au/event/year-12-student-guild-elections-2/
CATEGORIES:Sevenoaks Events
END:VEVENT
END:VCALENDAR