BEGIN:VCALENDAR
VERSION:2.0
PRODID:-//Sevenoaks - ECPv4.9.7//NONSGML v1.0//EN
CALSCALE:GREGORIAN
METHOD:PUBLISH
X-WR-CALNAME:Sevenoaks
X-ORIGINAL-URL:http://www.sevenoaks.wa.edu.au
X-WR-CALDESC:Events for Sevenoaks
BEGIN:VTIMEZONE
TZID:"Asia/Shanghai"
BEGIN:STANDARD
TZOFFSETFROM:+0800
TZOFFSETTO:+0800
TZNAME:CST
DTSTART:20210101T000000
END:STANDARD
END:VTIMEZONE
BEGIN:VEVENT
DTSTART;VALUE=DATE:20210126
DTEND;VALUE=DATE:20210127
DTSTAMP:20210301T000059
CREATED:20201208T005846Z
LAST-MODIFIED:20201208T005846Z
UID:3463-1611619200-1611705599@www.sevenoaks.wa.edu.au
SUMMARY:Survival Day
DESCRIPTION:
URL:http://www.sevenoaks.wa.edu.au/event/survival-day/
CATEGORIES:National Days
END:VEVENT
END:VCALENDAR