BEGIN:VCALENDAR
VERSION:2.0
PRODID:-//Sevenoaks - ECPv4.9.7//NONSGML v1.0//EN
CALSCALE:GREGORIAN
METHOD:PUBLISH
X-WR-CALNAME:Sevenoaks
X-ORIGINAL-URL:http://www.sevenoaks.wa.edu.au
X-WR-CALDESC:Events for Sevenoaks
BEGIN:VTIMEZONE
TZID:"Asia/Shanghai"
BEGIN:STANDARD
TZOFFSETFROM:+0800
TZOFFSETTO:+0800
TZNAME:CST
DTSTART:20210101T000000
END:STANDARD
END:VTIMEZONE
BEGIN:VEVENT
DTSTART;TZID="Asia/Shanghai":20210302T080000
DTEND;TZID="Asia/Shanghai":20210305T170000
DTSTAMP:20210228T234736
CREATED:20201207T064806Z
LAST-MODIFIED:20201207T064851Z
UID:3419-1614672000-1614963600@www.sevenoaks.wa.edu.au
SUMMARY:OLNA
DESCRIPTION:
URL:http://www.sevenoaks.wa.edu.au/event/olna-4/
CATEGORIES:Sevenoaks Events
END:VEVENT
END:VCALENDAR